BEGIN:VCALENDAR
VERSION:2.0
PRODID:-//Golden Palms Health - ECPv6.13.2.1//NONSGML v1.0//EN
CALSCALE:GREGORIAN
METHOD:PUBLISH
X-ORIGINAL-URL:https://www.goldenpalmshealth.com
X-WR-CALDESC:Events for Golden Palms Health
REFRESH-INTERVAL;VALUE=DURATION:PT1H
X-Robots-Tag:noindex
X-PUBLISHED-TTL:PT1H
BEGIN:VTIMEZONE
TZID:Europe/London
BEGIN:DAYLIGHT
TZOFFSETFROM:+0000
TZOFFSETTO:+0100
TZNAME:BST
DTSTART:20150329T010000
END:DAYLIGHT
BEGIN:STANDARD
TZOFFSETFROM:+0100
TZOFFSETTO:+0000
TZNAME:GMT
DTSTART:20151025T010000
END:STANDARD
END:VTIMEZONE
BEGIN:VEVENT
DTSTART;VALUE=DATE:20151012
DTEND;VALUE=DATE:20151018
DTSTAMP:20260423T154542
CREATED:20150822T075127Z
LAST-MODIFIED:20150822T075212Z
UID:1446-1444608000-1445126399@www.goldenpalmshealth.com
SUMMARY:India – Cochin
DESCRIPTION:
URL:https://www.goldenpalmshealth.com/event/india-cochin/
ATTACH;FMTTYPE=image/jpeg:https://www.goldenpalmshealth.com/wp-content/uploads/2015/08/Cochin.jpg
ORGANIZER;CN="Golden Palms Health":MAILTO:impactindia@goldenpalmshealth.com
END:VEVENT
BEGIN:VEVENT
DTSTART;VALUE=DATE:20151005
DTEND;VALUE=DATE:20151011
DTSTAMP:20260423T154542
CREATED:20150822T071656Z
LAST-MODIFIED:20150822T074920Z
UID:1444-1444003200-1444521599@www.goldenpalmshealth.com
SUMMARY:India – Bangalore
DESCRIPTION:
URL:https://www.goldenpalmshealth.com/event/south-central-india-union-of-sda/
LOCATION:Unnamed Venue\, Spencer Road\, Bangalore\, Karnataka\, 395001\, India
ATTACH;FMTTYPE=image/jpeg:https://www.goldenpalmshealth.com/wp-content/uploads/2015/08/bangalore.jpg
ORGANIZER;CN="Golden Palms Health":MAILTO:impactindia@goldenpalmshealth.com
END:VEVENT
BEGIN:VEVENT
DTSTART;VALUE=DATE:20150928
DTEND;VALUE=DATE:20151004
DTSTAMP:20260423T154542
CREATED:20150822T065740Z
LAST-MODIFIED:20150822T074608Z
UID:1442-1443398400-1443916799@www.goldenpalmshealth.com
SUMMARY:India - Andra Pradesh
DESCRIPTION:
URL:https://www.goldenpalmshealth.com/event/india-andra-pradesh/
LOCATION:METAS of Adventist College\, Nuzwid\, Andra Pradesh\, 521 201 \, India
ATTACH;FMTTYPE=image/jpeg:https://www.goldenpalmshealth.com/wp-content/uploads/2015/08/Andra-Pradesh.jpg
ORGANIZER;CN="Golden Palms Health":MAILTO:impactindia@goldenpalmshealth.com
END:VEVENT
BEGIN:VEVENT
DTSTART;VALUE=DATE:20150921
DTEND;VALUE=DATE:20150927
DTSTAMP:20260423T154542
CREATED:20150822T064432Z
LAST-MODIFIED:20150822T074443Z
UID:1437-1442793600-1443311999@www.goldenpalmshealth.com
SUMMARY:India - Mumbai
DESCRIPTION:
URL:https://www.goldenpalmshealth.com/event/india-mumbai/
LOCATION:Unnamed Venue\, 11\, YMCA Road\, Mumbai\, Maharastra\, 400 008\, India
ATTACH;FMTTYPE=image/jpeg:https://www.goldenpalmshealth.com/wp-content/uploads/2015/08/mumbai.jpg
ORGANIZER;CN="Mr Vijay Sathe":MAILTO:impactindia@goldenpalmshealth.com
END:VEVENT
BEGIN:VEVENT
DTSTART;VALUE=DATE:20150914
DTEND;VALUE=DATE:20150920
DTSTAMP:20260423T154542
CREATED:20150822T063633Z
LAST-MODIFIED:20150822T074208Z
UID:1435-1442188800-1442707199@www.goldenpalmshealth.com
SUMMARY:India – Athwalines
DESCRIPTION:
URL:https://www.goldenpalmshealth.com/event/india-athwalines/
LOCATION:METAS of Adventist College\, Nuzwid\, Andra Pradesh\, 521 201 \, India
ATTACH;FMTTYPE=image/jpeg:https://www.goldenpalmshealth.com/wp-content/uploads/2015/08/Unknown.jpg
ORGANIZER;CN="Metas Adventist Hospital":MAILTO:impactindia@goldenpalmshealth.com
END:VEVENT
BEGIN:VEVENT
DTSTART;VALUE=DATE:20150908
DTEND;VALUE=DATE:20150913
DTSTAMP:20260423T154542
CREATED:20150822T061800Z
LAST-MODIFIED:20150822T072604Z
UID:1431-1441670400-1442102399@www.goldenpalmshealth.com
SUMMARY:India - Ahmadabad
DESCRIPTION:
URL:https://www.goldenpalmshealth.com/event/india-ahmadabad/
LOCATION:Unnamed Venue\, India
ATTACH;FMTTYPE=image/jpeg:https://www.goldenpalmshealth.com/wp-content/uploads/2015/08/Ahmadabad.jpg
ORGANIZER;CN="Gujarat Conference of SDA":MAILTO:impactindia@goldenpalmshealth.com
END:VEVENT
BEGIN:VEVENT
DTSTART;VALUE=DATE:20150831
DTEND;VALUE=DATE:20150906
DTSTAMP:20260423T154542
CREATED:20150820T182322Z
LAST-MODIFIED:20150822T072127Z
UID:1423-1440979200-1441497599@www.goldenpalmshealth.com
SUMMARY:India\, Uttarakhand\, Roorkee Adventist College
DESCRIPTION:
URL:https://www.goldenpalmshealth.com/event/india-uttarakhand-roorkee-adventist-college/
LOCATION:Roorkee Adventist College\, Roorkee\, Dehli\, Uttarakhand\, 247667\, India
ATTACH;FMTTYPE=image/jpeg:https://www.goldenpalmshealth.com/wp-content/uploads/2015/08/Unknown.jpg
ORGANIZER;CN="Golden Palms Health":MAILTO:impactindia@goldenpalmshealth.com
END:VEVENT
END:VCALENDAR